BEGIN:VCALENDAR
VERSION:2.0
PRODID:-//Tukios.com/
BEGIN:VEVENT
UID:124a4c79-1961-41d3-8c27-be27dffef8c1@www.featheringillmortuary.com
DTSTAMP:20260424T031256Z
DTSTART:20260529T193000Z
DTEND:20260529T200000Z
SUMMARY:Honors for Edward Renz Murphy Jr.
DESCRIPTION:
URL:https://www.featheringillmortuary.com/obituaries/edward-murphy
LOCATION:Miramar National Cemetery 5795 Nobel Drive  San Diego CA 92122
GEO:32.8717245;-117.1903604
END:VEVENT
END:VCALENDAR