BEGIN:VCALENDAR
VERSION:2.0
PRODID:-//Tukios.com/
BEGIN:VEVENT
UID:bcab5b4b-9c8f-438c-adc5-8b60e2c8a19b@www.featheringillmortuary.com
DTSTAMP:20260424T032031Z
DTSTART:20260530T190000Z
DTEND:20260530T230000Z
SUMMARY:Celebration of Life
DESCRIPTION:
URL:https://www.featheringillmortuary.com/obituaries/edward-murphy
LOCATION:VFW Post 2082 2885 Lemon Grove Ave  Lemon Grove CA 91945
GEO:32.7374154;-117.030552
END:VEVENT
END:VCALENDAR