BEGIN:VCALENDAR
VERSION:2.0
PRODID:-//Tukios.com/
BEGIN:VEVENT
UID:923e62e3-3b72-4de0-9ea6-6815cbf864be@www.featheringillmortuary.com
DTSTAMP:20260421T032537Z
DTSTART:20260429T180000Z
DTEND:20260429T190000Z
SUMMARY:Mass for Lois Audrey Fernkes
DESCRIPTION:
URL:https://www.featheringillmortuary.com/obituaries/lois-fernkes
LOCATION:St Therese Catholic Church 6400 St Therese Way  San Diego CA 
	92120
GEO:32.7939599;-117.0662147
END:VEVENT
END:VCALENDAR