BEGIN:VCALENDAR
VERSION:2.0
PRODID:-//Tukios.com/
BEGIN:VEVENT
UID:35af0d92-f2d0-4bff-8c42-56b691580d13@www.featheringillmortuary.com
DTSTAMP:20260421T032407Z
DTSTART:20260428T230000Z
DTEND:20260429T030000Z
SUMMARY:Viewing for Lois Audrey Fernkes
DESCRIPTION:
URL:https://www.featheringillmortuary.com/obituaries/lois-fernkes
LOCATION:Featheringill Mortuary 6322 El Cajon Blvd  San Diego CA 92115
GEO:32.7642587;-117.0626288
END:VEVENT
END:VCALENDAR