BEGIN:VCALENDAR
VERSION:2.0
PRODID:-//Tukios.com/
BEGIN:VEVENT
UID:f7ac4bba-13a4-4251-90f6-8723400f2f11@www.featheringillmortuary.com
DTSTAMP:20260421T090202Z
DTSTART:20260306T170000Z
DTEND:20260306T173000Z
SUMMARY:Funeral Service
DESCRIPTION:
URL:https://www.featheringillmortuary.com/obituaries/richard-thomas-williams
LOCATION: 5795 Nobel Dr  San Diego CA 92122
GEO:32.8688801;-117.1889581
END:VEVENT
END:VCALENDAR