BEGIN:VCALENDAR
VERSION:2.0
PRODID:-//Tukios.com/
BEGIN:VEVENT
UID:fdfb5669-eef5-4c6a-ba9b-949e4a6d5842@www.featheringillmortuary.com
DTSTAMP:20260421T084145Z
DTSTART:20260306T180000Z
DTEND:20260306T190000Z
SUMMARY:Memorial Gathering
DESCRIPTION:
URL:https://www.featheringillmortuary.com/obituaries/richard-thomas-williams
LOCATION:Our Lady of Grace Church 2766 Navajo Road  El Cajon CA 92020
GEO:32.8038834;-117.0040052
END:VEVENT
END:VCALENDAR